BEGIN:VCALENDAR
PRODID:-//Pixl8//Eventfolio//EN
VERSION:2.0
X-WR-TIMEZONE:Europe/London
CALSCALE:GREGORIAN
METHOD:PUBLISH
CLASS:PUBLIC
BEGIN:VTIMEZONE
TZID:Europe/London
LAST-MODIFIED:20260306T231828Z
TZURL:https://www.tzurl.org/zoneinfo-outlook/Europe/London
X-LIC-LOCATION:Europe/London
BEGIN:DAYLIGHT
TZNAME:BST
TZOFFSETFROM:+0000
TZOFFSETTO:+0100
DTSTART:19700329T010000
RRULE:FREQ=YEARLY;BYMONTH=3;BYDAY=-1SU
END:DAYLIGHT
BEGIN:STANDARD
TZNAME:GMT
TZOFFSETFROM:+0100
TZOFFSETTO:+0000
DTSTART:19701025T020000
RRULE:FREQ=YEARLY;BYMONTH=10;BYDAY=-1SU
END:STANDARD
END:VTIMEZONE
BEGIN:VEVENT
DTSTART;TZID=Europe/London;VALUE=DATE:20220124
DTEND;TZID=Europe/London;VALUE=DATE:20220924
DTSTAMP:20260423T103949Z
UID:{C2D7D1F9-04A0-481B-872CAE7976E20219}
LOCATION:Roman Vindolanda\, Bardon Mill\, Hexham\, Northumberland\, NE47 7JN
SUMMARY:1900 Bunting Challenge 
DESCRIPTION:To celebrate the 1900th Anniversary of the building of Hadrian's Wall we are setting ourselves and everyone around the world a challenge.  To create by knitting, crocheting or sewing 1900 flags of bunting which will then decorate our replica section of Hadrian's Wall at Roman Vindolanda in an exhibition between 22nd-30th October 2022.\n
 \n
 Event details: https://www.archaeologyuk.org/get-involved/events-and-activities/event-calendar/1900-bunting-challenge.html
PRIORITY:1
END:VEVENT
END:VCALENDAR