BEGIN:VCALENDAR
PRODID:-//Pixl8//Eventfolio//EN
VERSION:2.0
X-WR-TIMEZONE:Europe/London
CALSCALE:GREGORIAN
METHOD:PUBLISH
CLASS:PUBLIC
BEGIN:VTIMEZONE
TZID:Europe/London
LAST-MODIFIED:20260306T231828Z
TZURL:https://www.tzurl.org/zoneinfo-outlook/Europe/London
X-LIC-LOCATION:Europe/London
BEGIN:DAYLIGHT
TZNAME:BST
TZOFFSETFROM:+0000
TZOFFSETTO:+0100
DTSTART:19700329T010000
RRULE:FREQ=YEARLY;BYMONTH=3;BYDAY=-1SU
END:DAYLIGHT
BEGIN:STANDARD
TZNAME:GMT
TZOFFSETFROM:+0100
TZOFFSETTO:+0000
DTSTART:19701025T020000
RRULE:FREQ=YEARLY;BYMONTH=10;BYDAY=-1SU
END:STANDARD
END:VTIMEZONE
BEGIN:VEVENT
DTSTART;TZID=Europe/London:20230531T130000
DTEND;TZID=Europe/London:20230531T140000
DTSTAMP:20260421T123951Z
UID:{A2D0A5D0-F991-4372-8E624BCD45B0B189}
LOCATION:Zoom
SUMMARY:2023 Festival of Archaeology Clinic 7
DESCRIPTION:Festival organiser clinic for drop in to ask questions or stay for the whole session and network\n
 \n
 Event details: https://www.archaeologyuk.org/get-involved/events-and-activities/event-calendar/2023-festival-of-archaeology-clinic-7.html
PRIORITY:1
END:VEVENT
END:VCALENDAR