BEGIN:VCALENDAR
PRODID:-//Pixl8//Eventfolio//EN
VERSION:2.0
X-WR-TIMEZONE:Europe/London
CALSCALE:GREGORIAN
METHOD:PUBLISH
CLASS:PUBLIC
BEGIN:VTIMEZONE
TZID:Europe/London
LAST-MODIFIED:20260306T231828Z
TZURL:https://www.tzurl.org/zoneinfo-outlook/Europe/London
X-LIC-LOCATION:Europe/London
BEGIN:DAYLIGHT
TZNAME:BST
TZOFFSETFROM:+0000
TZOFFSETTO:+0100
DTSTART:19700329T010000
RRULE:FREQ=YEARLY;BYMONTH=3;BYDAY=-1SU
END:DAYLIGHT
BEGIN:STANDARD
TZNAME:GMT
TZOFFSETFROM:+0100
TZOFFSETTO:+0000
DTSTART:19701025T020000
RRULE:FREQ=YEARLY;BYMONTH=10;BYDAY=-1SU
END:STANDARD
END:VTIMEZONE
BEGIN:VEVENT
DTSTART;TZID=Europe/London:20240612T130000
DTEND;TZID=Europe/London:20240612T140000
DTSTAMP:20260422T010659Z
UID:{7AA842F0-63A0-446A-B9E5C4124F74979F}
LOCATION:Zoom
SUMMARY:2024 Festival of Archaeology Evaluation Workshop 1
DESCRIPTION:The Festival of Archaeology Evaluation Workshop for Organisers\n
 \n
 Event details: https://www.archaeologyuk.org/get-involved/events-and-activities/event-calendar/2024-festival-of-archaeology-evaluation-workshop-1.html
PRIORITY:1
END:VEVENT
END:VCALENDAR