BEGIN:VCALENDAR
PRODID:-//Pixl8//Eventfolio//EN
VERSION:2.0
X-WR-TIMEZONE:Europe/London
CALSCALE:GREGORIAN
METHOD:PUBLISH
CLASS:PUBLIC
BEGIN:VTIMEZONE
TZID:Europe/London
LAST-MODIFIED:20260306T231828Z
TZURL:https://www.tzurl.org/zoneinfo-outlook/Europe/London
X-LIC-LOCATION:Europe/London
BEGIN:DAYLIGHT
TZNAME:BST
TZOFFSETFROM:+0000
TZOFFSETTO:+0100
DTSTART:19700329T010000
RRULE:FREQ=YEARLY;BYMONTH=3;BYDAY=-1SU
END:DAYLIGHT
BEGIN:STANDARD
TZNAME:GMT
TZOFFSETFROM:+0100
TZOFFSETTO:+0000
DTSTART:19701025T020000
RRULE:FREQ=YEARLY;BYMONTH=10;BYDAY=-1SU
END:STANDARD
END:VTIMEZONE
BEGIN:VEVENT
DTSTART;TZID=Europe/London;VALUE=DATE:20240308
DTEND;TZID=Europe/London;VALUE=DATE:20240309
DTSTAMP:20260423T080648Z
UID:{86467C29-42D7-42F4-806C580EA6A32A07}
LOCATION:King's Manor - University of York Exhibition Square York YO1 7EP
SUMMARY: Aegean Bronze Age Seminar - Dr Michael Boyd
DESCRIPTION:Event details: https://www.archaeologyuk.org/get-involved/events-and-activities/event-calendar/aegean-bronze-age-seminar-dr-michael-boyd.html
PRIORITY:1
END:VEVENT
END:VCALENDAR