BEGIN:VCALENDAR
PRODID:-//Pixl8//Eventfolio//EN
VERSION:2.0
X-WR-TIMEZONE:Europe/London
CALSCALE:GREGORIAN
METHOD:PUBLISH
CLASS:PUBLIC
BEGIN:VTIMEZONE
TZID:Europe/London
LAST-MODIFIED:20260306T231828Z
TZURL:https://www.tzurl.org/zoneinfo-outlook/Europe/London
X-LIC-LOCATION:Europe/London
BEGIN:DAYLIGHT
TZNAME:BST
TZOFFSETFROM:+0000
TZOFFSETTO:+0100
DTSTART:19700329T010000
RRULE:FREQ=YEARLY;BYMONTH=3;BYDAY=-1SU
END:DAYLIGHT
BEGIN:STANDARD
TZNAME:GMT
TZOFFSETFROM:+0100
TZOFFSETTO:+0000
DTSTART:19701025T020000
RRULE:FREQ=YEARLY;BYMONTH=10;BYDAY=-1SU
END:STANDARD
END:VTIMEZONE
BEGIN:VEVENT
DTSTART;TZID=Europe/London:20250721T120000
DTEND;TZID=Europe/London:20250721T130000
DTSTAMP:20260426T044147Z
UID:{13DEF743-F408-4607-958E7676DA738CB3}
LOCATION:Online
SUMMARY:Archaeological Achievement Awards 2025 - nomination process webinar 1
DESCRIPTION:Join us for a free online webinar on the nomination process for this year's Archaeological Achievement Awards\n
 \n
 Event details: https://www.archaeologyuk.org/get-involved/events-and-activities/event-calendar/archaeological-achievement-awards-2025-nomination-process-webinar-1.html
PRIORITY:1
END:VEVENT
END:VCALENDAR