BEGIN:VCALENDAR
PRODID:-//Pixl8//Eventfolio//EN
VERSION:2.0
X-WR-TIMEZONE:Europe/London
CALSCALE:GREGORIAN
METHOD:PUBLISH
CLASS:PUBLIC
BEGIN:VTIMEZONE
TZID:Europe/London
LAST-MODIFIED:20260306T231828Z
TZURL:https://www.tzurl.org/zoneinfo-outlook/Europe/London
X-LIC-LOCATION:Europe/London
BEGIN:DAYLIGHT
TZNAME:BST
TZOFFSETFROM:+0000
TZOFFSETTO:+0100
DTSTART:19700329T010000
RRULE:FREQ=YEARLY;BYMONTH=3;BYDAY=-1SU
END:DAYLIGHT
BEGIN:STANDARD
TZNAME:GMT
TZOFFSETFROM:+0100
TZOFFSETTO:+0000
DTSTART:19701025T020000
RRULE:FREQ=YEARLY;BYMONTH=10;BYDAY=-1SU
END:STANDARD
END:VTIMEZONE
BEGIN:VEVENT
DTSTART;TZID=Europe/London:20221130T170000
DTEND;TZID=Europe/London:20221130T203000
DTSTAMP:20260425T115947Z
UID:{C10696DA-5AB3-4C8E-8AB3DFFC5A969388}
LOCATION:Online
SUMMARY:Autumn Online Talks Series: Kingston Lacy, Dorset, by Michael Hall
DESCRIPTION:Event details: https://www.archaeologyuk.org/get-involved/events-and-activities/event-calendar/autumn-online-talks-series-kingston-lacy-dorset-by-michael-hall.html
PRIORITY:1
END:VEVENT
END:VCALENDAR