BEGIN:VCALENDAR
PRODID:-//Pixl8//Eventfolio//EN
VERSION:2.0
X-WR-TIMEZONE:Europe/London
CALSCALE:GREGORIAN
METHOD:PUBLISH
CLASS:PUBLIC
BEGIN:VTIMEZONE
TZID:Europe/London
LAST-MODIFIED:20260306T231828Z
TZURL:https://www.tzurl.org/zoneinfo-outlook/Europe/London
X-LIC-LOCATION:Europe/London
BEGIN:DAYLIGHT
TZNAME:BST
TZOFFSETFROM:+0000
TZOFFSETTO:+0100
DTSTART:19700329T010000
RRULE:FREQ=YEARLY;BYMONTH=3;BYDAY=-1SU
END:DAYLIGHT
BEGIN:STANDARD
TZNAME:GMT
TZOFFSETFROM:+0100
TZOFFSETTO:+0000
DTSTART:19701025T020000
RRULE:FREQ=YEARLY;BYMONTH=10;BYDAY=-1SU
END:STANDARD
END:VTIMEZONE
BEGIN:VEVENT
DTSTART;TZID=Europe/London;VALUE=DATE:20240909
DTEND;TZID=Europe/London;VALUE=DATE:20240914
DTSTAMP:20260420T233836Z
UID:{63B939CD-57FC-48CF-843BE8B3B3826DBA}
LOCATION:
SUMMARY:Bainbridge Archaeological Training Excavations WEEK 1: 9th - 13th September 2024
DESCRIPTION:Join Mercian Archaeological Services CIC in the beautiful Yorkshire Dales for this week-long training excavation, which focuses on the teaching of archaeological excavation methods.\n
 \n
 Event details: https://www.archaeologyuk.org/get-involved/events-and-activities/event-calendar/bainbridge-archaeological-training-excavations-week-1-9th-13th-september-2024.html
PRIORITY:1
END:VEVENT
END:VCALENDAR