BEGIN:VCALENDAR
PRODID:-//Pixl8//Eventfolio//EN
VERSION:2.0
X-WR-TIMEZONE:Europe/London
CALSCALE:GREGORIAN
METHOD:PUBLISH
CLASS:PUBLIC
BEGIN:VTIMEZONE
TZID:Europe/London
LAST-MODIFIED:20260306T231828Z
TZURL:https://www.tzurl.org/zoneinfo-outlook/Europe/London
X-LIC-LOCATION:Europe/London
BEGIN:DAYLIGHT
TZNAME:BST
TZOFFSETFROM:+0000
TZOFFSETTO:+0100
DTSTART:19700329T010000
RRULE:FREQ=YEARLY;BYMONTH=3;BYDAY=-1SU
END:DAYLIGHT
BEGIN:STANDARD
TZNAME:GMT
TZOFFSETFROM:+0100
TZOFFSETTO:+0000
DTSTART:19701025T020000
RRULE:FREQ=YEARLY;BYMONTH=10;BYDAY=-1SU
END:STANDARD
END:VTIMEZONE
BEGIN:VEVENT
DTSTART;TZID=Europe/London:20260228T091500
DTEND;TZID=Europe/London:20260228T170000
DTSTAMP:20260421T094358Z
UID:{DF7D80D9-5B1F-4889-AC6F1C2627FCD3A0}
LOCATION:UCL Institute of Education\, London
SUMMARY:Current Archaeology Live! 2026
DESCRIPTION:A one-day conference bringing you all the latest archaeological discoveries and research from Britain and beyond\n
 \n
 Event details: https://www.archaeologyuk.org/get-involved/events-and-activities/event-calendar/current-archaeology-live-2026.html
PRIORITY:1
END:VEVENT
END:VCALENDAR