BEGIN:VCALENDAR
PRODID:-//Pixl8//Eventfolio//EN
VERSION:2.0
X-WR-TIMEZONE:Europe/London
CALSCALE:GREGORIAN
METHOD:PUBLISH
CLASS:PUBLIC
BEGIN:VTIMEZONE
TZID:Europe/London
LAST-MODIFIED:20260306T231828Z
TZURL:https://www.tzurl.org/zoneinfo-outlook/Europe/London
X-LIC-LOCATION:Europe/London
BEGIN:DAYLIGHT
TZNAME:BST
TZOFFSETFROM:+0000
TZOFFSETTO:+0100
DTSTART:19700329T010000
RRULE:FREQ=YEARLY;BYMONTH=3;BYDAY=-1SU
END:DAYLIGHT
BEGIN:STANDARD
TZNAME:GMT
TZOFFSETFROM:+0100
TZOFFSETTO:+0000
DTSTART:19701025T020000
RRULE:FREQ=YEARLY;BYMONTH=10;BYDAY=-1SU
END:STANDARD
END:VTIMEZONE
BEGIN:VEVENT
DTSTART;TZID=Europe/London:20260224T180000
DTEND;TZID=Europe/London:20260224T193000
DTSTAMP:20260426T050100Z
UID:{85C5DBA4-D317-4BA8-B604EBAB21CAB12E}
LOCATION:Online
SUMMARY:Discover Irchester Field School and Uncovering Roman Carlisle
DESCRIPTION:Find out more about Uncovering Roman Carlisle and the Irchester Field School in this online talk hosted by the CBA\n
 \n
 Event details: https://www.archaeologyuk.org/get-involved/events-and-activities/event-calendar/discover-irchester-field-school-and-uncovering-roman-carlisle.html
PRIORITY:1
END:VEVENT
END:VCALENDAR