BEGIN:VCALENDAR
PRODID:-//Pixl8//Eventfolio//EN
VERSION:2.0
X-WR-TIMEZONE:Etc/GMT
CALSCALE:GREGORIAN
METHOD:PUBLISH
CLASS:PUBLIC
BEGIN:VTIMEZONE
TZID:Etc/GMT
LAST-MODIFIED:20260306T231828Z
TZURL:https://www.tzurl.org/zoneinfo-outlook/Etc/GMT
X-LIC-LOCATION:Etc/GMT
BEGIN:STANDARD
TZNAME:GMT
TZOFFSETFROM:+0000
TZOFFSETTO:+0000
DTSTART:19700101T000000
END:STANDARD
END:VTIMEZONE
BEGIN:VEVENT
DTSTART;TZID=Etc/GMT:20211102T190000
DTEND;TZID=Etc/GMT:20211207T210000
DTSTAMP:20260425T234444Z
UID:{27BA24DD-42A7-4F13-A0955171288D91CB}
LOCATION:Online event
SUMMARY:Food and Feasting 
DESCRIPTION:5 week online course, Tuesdays 7-9pm. This course will look at food and feasting from the days of Homo Neanderthalensis to the Late Medieval / Early Tudor period and will consider the relationships between food and social culture.\n
 \n
 Event details: https://www.archaeologyuk.org/get-involved/events-and-activities/event-calendar/food-and-feasting.html
PRIORITY:1
END:VEVENT
END:VCALENDAR