BEGIN:VCALENDAR
PRODID:-//Pixl8//Eventfolio//EN
VERSION:2.0
X-WR-TIMEZONE:Europe/London
CALSCALE:GREGORIAN
METHOD:PUBLISH
CLASS:PUBLIC
BEGIN:VTIMEZONE
TZID:Europe/London
LAST-MODIFIED:20260306T231828Z
TZURL:https://www.tzurl.org/zoneinfo-outlook/Europe/London
X-LIC-LOCATION:Europe/London
BEGIN:DAYLIGHT
TZNAME:BST
TZOFFSETFROM:+0000
TZOFFSETTO:+0100
DTSTART:19700329T010000
RRULE:FREQ=YEARLY;BYMONTH=3;BYDAY=-1SU
END:DAYLIGHT
BEGIN:STANDARD
TZNAME:GMT
TZOFFSETFROM:+0100
TZOFFSETTO:+0000
DTSTART:19701025T020000
RRULE:FREQ=YEARLY;BYMONTH=10;BYDAY=-1SU
END:STANDARD
END:VTIMEZONE
BEGIN:VEVENT
DTSTART;TZID=Europe/London:20231012T100000
DTEND;TZID=Europe/London:20231012T163000
DTSTAMP:20260423T000147Z
UID:{397EE0D9-933F-47DF-9AF32509930F09B1}
LOCATION:London
SUMMARY:Gardens Trust Conference: Designation and Historic Designed Landscapes
DESCRIPTION:The Gardens Trust’s 2023 Historic Landscape Assemblies will focus on the theme of designation, to mark the 40th anniversary of the national Heritage Act and the Register of Parks and Gardens of Special Historic Interest.\n
 \n
 \n
 \n
 This Conference Day will take a look back at the development and impact of the Register over the past 40 years, review its contribution today, and discuss its place in heritage conservation for the future.\n
 \n
 \n
 \n
 Speakers are still being confirmed but include: Chris Blandford (Chair of the Gardens Trust Conservation Committee), Peter Goodchild (one of the original advocates for protection and a national register), David Jacques, (English Heritage’s first Inspector of Historic Parks and Gardens), Erika Diaz-Petersen, (Historic England Principal National Landscape Adviser), Jenifer White (previously Historic England Principal National Landscape Adviser), Deborah Evans (historic landscape consultant), William Hanham (historic property owner), Ben Cowell (Historic Houses).\n
 \n
 Event details: https://www.archaeologyuk.org/get-involved/events-and-activities/event-calendar/gardens-trust-conference-designation-and-historic-designed-landscapes.html
PRIORITY:1
END:VEVENT
END:VCALENDAR