BEGIN:VCALENDAR
PRODID:-//Pixl8//Eventfolio//EN
VERSION:2.0
X-WR-TIMEZONE:Europe/London
CALSCALE:GREGORIAN
METHOD:PUBLISH
CLASS:PUBLIC
BEGIN:VTIMEZONE
TZID:Europe/London
LAST-MODIFIED:20260306T231828Z
TZURL:https://www.tzurl.org/zoneinfo-outlook/Europe/London
X-LIC-LOCATION:Europe/London
BEGIN:DAYLIGHT
TZNAME:BST
TZOFFSETFROM:+0000
TZOFFSETTO:+0100
DTSTART:19700329T010000
RRULE:FREQ=YEARLY;BYMONTH=3;BYDAY=-1SU
END:DAYLIGHT
BEGIN:STANDARD
TZNAME:GMT
TZOFFSETFROM:+0100
TZOFFSETTO:+0000
DTSTART:19701025T020000
RRULE:FREQ=YEARLY;BYMONTH=10;BYDAY=-1SU
END:STANDARD
END:VTIMEZONE
BEGIN:VEVENT
DTSTART;TZID=Europe/London:20251124T193000
DTEND;TZID=Europe/London:20251124T203000
DTSTAMP:20260421T095135Z
UID:{23F7C724-3D8D-489D-881B578B452A68D0}
LOCATION:St Andrew’s URC church hall\, Montpellier St\, Cheltenham\, GL50 1SP and on line via Zoom
SUMMARY:GlosArch November Lecture: GlosArch 2025 field work updates
DESCRIPTION:With Neil Cathie and Phil Cox\n
 \n
 Event details: https://www.archaeologyuk.org/get-involved/events-and-activities/event-calendar/glosarch-november-lecture-glosarch-2025-field-work-updates.html
PRIORITY:1
END:VEVENT
END:VCALENDAR