BEGIN:VCALENDAR
PRODID:-//Pixl8//Eventfolio//EN
VERSION:2.0
X-WR-TIMEZONE:Europe/London
CALSCALE:GREGORIAN
METHOD:PUBLISH
CLASS:PUBLIC
BEGIN:VTIMEZONE
TZID:Europe/London
LAST-MODIFIED:20260306T231828Z
TZURL:https://www.tzurl.org/zoneinfo-outlook/Europe/London
X-LIC-LOCATION:Europe/London
BEGIN:DAYLIGHT
TZNAME:BST
TZOFFSETFROM:+0000
TZOFFSETTO:+0100
DTSTART:19700329T010000
RRULE:FREQ=YEARLY;BYMONTH=3;BYDAY=-1SU
END:DAYLIGHT
BEGIN:STANDARD
TZNAME:GMT
TZOFFSETFROM:+0100
TZOFFSETTO:+0000
DTSTART:19701025T020000
RRULE:FREQ=YEARLY;BYMONTH=10;BYDAY=-1SU
END:STANDARD
END:VTIMEZONE
BEGIN:VEVENT
DTSTART;TZID=Europe/London:20250521T120000
DTEND;TZID=Europe/London:20250521T130000
DTSTAMP:20260426T011606Z
UID:{16E29286-15B2-4D72-89B076A6D5C1217F}
LOCATION:Online
SUMMARY:In Conversations: Introduction to Safeguarding - Afternoon Session
DESCRIPTION:Event details: https://www.archaeologyuk.org/get-involved/events-and-activities/event-calendar/in-conversations-introduction-to-safeguarding-afternoon-session.html
PRIORITY:1
END:VEVENT
END:VCALENDAR