BEGIN:VCALENDAR
PRODID:-//Pixl8//Eventfolio//EN
VERSION:2.0
X-WR-TIMEZONE:Europe/London
CALSCALE:GREGORIAN
METHOD:PUBLISH
CLASS:PUBLIC
BEGIN:VTIMEZONE
TZID:Europe/London
LAST-MODIFIED:20260306T231828Z
TZURL:https://www.tzurl.org/zoneinfo-outlook/Europe/London
X-LIC-LOCATION:Europe/London
BEGIN:DAYLIGHT
TZNAME:BST
TZOFFSETFROM:+0000
TZOFFSETTO:+0100
DTSTART:19700329T010000
RRULE:FREQ=YEARLY;BYMONTH=3;BYDAY=-1SU
END:DAYLIGHT
BEGIN:STANDARD
TZNAME:GMT
TZOFFSETFROM:+0100
TZOFFSETTO:+0000
DTSTART:19701025T020000
RRULE:FREQ=YEARLY;BYMONTH=10;BYDAY=-1SU
END:STANDARD
END:VTIMEZONE
BEGIN:VEVENT
DTSTART;TZID=Europe/London:20220620T090000
DTEND;TZID=Europe/London:20221007T170000
DTSTAMP:20260422T011102Z
UID:{5D9B34E5-62D0-43C6-B5E69E32A1E262CD}
LOCATION:The EdShed\, Folk Museum
SUMMARY:Introduction to human skeletal remains: Osteoarchaeology investigations 
DESCRIPTION:Join SHARP and learn how to identify human skeletal elements and how to record them.\n
 \n
 Event details: https://www.archaeologyuk.org/get-involved/events-and-activities/event-calendar/introduction-to-human-skeletal-remains-osteoarchaeology-investigations.html
PRIORITY:1
END:VEVENT
END:VCALENDAR