BEGIN:VCALENDAR
PRODID:-//Pixl8//Eventfolio//EN
VERSION:2.0
X-WR-TIMEZONE:Europe/London
CALSCALE:GREGORIAN
METHOD:PUBLISH
CLASS:PUBLIC
BEGIN:VTIMEZONE
TZID:Europe/London
LAST-MODIFIED:20260306T231828Z
TZURL:https://www.tzurl.org/zoneinfo-outlook/Europe/London
X-LIC-LOCATION:Europe/London
BEGIN:DAYLIGHT
TZNAME:BST
TZOFFSETFROM:+0000
TZOFFSETTO:+0100
DTSTART:19700329T010000
RRULE:FREQ=YEARLY;BYMONTH=3;BYDAY=-1SU
END:DAYLIGHT
BEGIN:STANDARD
TZNAME:GMT
TZOFFSETFROM:+0100
TZOFFSETTO:+0000
DTSTART:19701025T020000
RRULE:FREQ=YEARLY;BYMONTH=10;BYDAY=-1SU
END:STANDARD
END:VTIMEZONE
BEGIN:VEVENT
DTSTART;TZID=Europe/London:20230610T120000
DTEND;TZID=Europe/London:20230610T150000
DTSTAMP:20260425T170054Z
UID:{7097C6DE-372A-4B1A-B830E4909F1A0DA6}
LOCATION:Soulton Hall\, B5065\, Soulton\, Wem\, Shrewsbury \, SY4 5RS
SUMMARY:Medieval Archaeology Adventure at Soulton Hall 
DESCRIPTION:Event details: https://www.archaeologyuk.org/get-involved/events-and-activities/event-calendar/medieval-archaeology-adventure-at-soulton-hall.html
PRIORITY:1
END:VEVENT
END:VCALENDAR