BEGIN:VCALENDAR
PRODID:-//Pixl8//Eventfolio//EN
VERSION:2.0
X-WR-TIMEZONE:Europe/London
CALSCALE:GREGORIAN
METHOD:PUBLISH
CLASS:PUBLIC
BEGIN:VTIMEZONE
TZID:Europe/London
LAST-MODIFIED:20260306T231828Z
TZURL:https://www.tzurl.org/zoneinfo-outlook/Europe/London
X-LIC-LOCATION:Europe/London
BEGIN:DAYLIGHT
TZNAME:BST
TZOFFSETFROM:+0000
TZOFFSETTO:+0100
DTSTART:19700329T010000
RRULE:FREQ=YEARLY;BYMONTH=3;BYDAY=-1SU
END:DAYLIGHT
BEGIN:STANDARD
TZNAME:GMT
TZOFFSETFROM:+0100
TZOFFSETTO:+0000
DTSTART:19701025T020000
RRULE:FREQ=YEARLY;BYMONTH=10;BYDAY=-1SU
END:STANDARD
END:VTIMEZONE
BEGIN:VEVENT
DTSTART;TZID=Europe/London:20221011T193000
DTEND;TZID=Europe/London:20221011T210000
DTSTAMP:20260421T014544Z
UID:{97FF8998-E858-4CC8-A80DB0E7C8D83079}
LOCATION:Online
SUMMARY:Photographing the Towton Battlefield Human Remains - Eric Houlder
DESCRIPTION:Eric’s talk will look at his results putting them into the context of the probably bloodiest battle fought on English soil.\n
 \n
 Event details: https://www.archaeologyuk.org/get-involved/events-and-activities/event-calendar/photographing-the-towton-battlefield-human-remains-eric-houlder.html
PRIORITY:1
END:VEVENT
END:VCALENDAR