BEGIN:VCALENDAR
PRODID:-//Pixl8//Eventfolio//EN
VERSION:2.0
X-WR-TIMEZONE:Europe/London
CALSCALE:GREGORIAN
METHOD:PUBLISH
CLASS:PUBLIC
BEGIN:VTIMEZONE
TZID:Europe/London
LAST-MODIFIED:20260306T231828Z
TZURL:https://www.tzurl.org/zoneinfo-outlook/Europe/London
X-LIC-LOCATION:Europe/London
BEGIN:DAYLIGHT
TZNAME:BST
TZOFFSETFROM:+0000
TZOFFSETTO:+0100
DTSTART:19700329T010000
RRULE:FREQ=YEARLY;BYMONTH=3;BYDAY=-1SU
END:DAYLIGHT
BEGIN:STANDARD
TZNAME:GMT
TZOFFSETFROM:+0100
TZOFFSETTO:+0000
DTSTART:19701025T020000
RRULE:FREQ=YEARLY;BYMONTH=10;BYDAY=-1SU
END:STANDARD
END:VTIMEZONE
BEGIN:VEVENT
DTSTART;TZID=Europe/London;VALUE=DATE:20250322
DTEND;TZID=Europe/London;VALUE=DATE:20250324
DTSTAMP:20260425T204623Z
UID:{FAA2C917-E90A-4C2D-879DB51BD5BD25FF}
LOCATION:Chiddinglye Farm\, Selsfield Road\, West Hoathly\, West Sussex\, RH19 4QS
SUMMARY:Spring Equinox Volunteer Action Camp
DESCRIPTION:The Boar Oak Project\n
 \n
 Invites you to celebrate the Spring Equinox at our Volunteer Action Camp\n
 A FESTIVAL OF BALANCE & AWAKENING ~ WHEN DAY AND NIGHT ARE AT EQUAL LENGTH\n
 \n
 Event details: https://www.archaeologyuk.org/get-involved/events-and-activities/event-calendar/spring-equinox-volunteer-action-camp.html
PRIORITY:1
END:VEVENT
END:VCALENDAR