BEGIN:VCALENDAR
PRODID:-//Pixl8//Eventfolio//EN
VERSION:2.0
X-WR-TIMEZONE:Europe/London
CALSCALE:GREGORIAN
METHOD:PUBLISH
CLASS:PUBLIC
BEGIN:VTIMEZONE
TZID:Europe/London
LAST-MODIFIED:20260306T231828Z
TZURL:https://www.tzurl.org/zoneinfo-outlook/Europe/London
X-LIC-LOCATION:Europe/London
BEGIN:DAYLIGHT
TZNAME:BST
TZOFFSETFROM:+0000
TZOFFSETTO:+0100
DTSTART:19700329T010000
RRULE:FREQ=YEARLY;BYMONTH=3;BYDAY=-1SU
END:DAYLIGHT
BEGIN:STANDARD
TZNAME:GMT
TZOFFSETFROM:+0100
TZOFFSETTO:+0000
DTSTART:19701025T020000
RRULE:FREQ=YEARLY;BYMONTH=10;BYDAY=-1SU
END:STANDARD
END:VTIMEZONE
BEGIN:VEVENT
DTSTART;TZID=Europe/London:20220125T193000
DTEND;TZID=Europe/London:20220125T204500
DTSTAMP:20260424T022853Z
UID:{B9D24719-79BE-4E0E-86DA652E5DB2F2F6}
LOCATION:Zoom
SUMMARY:The Archaeology of Ritual and Magic
DESCRIPTION:The first talk in CBA East's Winter Lecture Series 2022. A tantalising look at how ritual and magic appear in archaeology.\n
 \n
 Event details: https://www.archaeologyuk.org/get-involved/events-and-activities/event-calendar/the-archaeology-of-ritual-and-magic.html
PRIORITY:1
END:VEVENT
END:VCALENDAR