BEGIN:VCALENDAR
PRODID:-//Pixl8//Eventfolio//EN
VERSION:2.0
X-WR-TIMEZONE:Europe/London
CALSCALE:GREGORIAN
METHOD:PUBLISH
CLASS:PUBLIC
BEGIN:VTIMEZONE
TZID:Europe/London
LAST-MODIFIED:20260306T231828Z
TZURL:https://www.tzurl.org/zoneinfo-outlook/Europe/London
X-LIC-LOCATION:Europe/London
BEGIN:DAYLIGHT
TZNAME:BST
TZOFFSETFROM:+0000
TZOFFSETTO:+0100
DTSTART:19700329T010000
RRULE:FREQ=YEARLY;BYMONTH=3;BYDAY=-1SU
END:DAYLIGHT
BEGIN:STANDARD
TZNAME:GMT
TZOFFSETFROM:+0100
TZOFFSETTO:+0000
DTSTART:19701025T020000
RRULE:FREQ=YEARLY;BYMONTH=10;BYDAY=-1SU
END:STANDARD
END:VTIMEZONE
BEGIN:VEVENT
DTSTART;TZID=Europe/London:20250416T170000
DTEND;TZID=Europe/London:20250702T180000
DTSTAMP:20260425T204543Z
UID:{8CA0B6B9-3311-482E-9CD6010D09DB0A64}
LOCATION:Online
SUMMARY:Wednesday Research seminars in Archaeology and Ancient History 
DESCRIPTION:Weekly research seminars presented by Archaeologists and Ancient Historians in the School of Archaeology and Ancient History at Leicester and external speakers\n
 \n
 Event details: https://www.archaeologyuk.org/get-involved/events-and-activities/event-calendar/wednesday-research-seminars-in-archaeology-and-ancient-history.html
PRIORITY:1
END:VEVENT
END:VCALENDAR