BEGIN:VCALENDAR
PRODID:-//Pixl8//Eventfolio//EN
VERSION:2.0
X-WR-TIMEZONE:Europe/London
CALSCALE:GREGORIAN
METHOD:PUBLISH
CLASS:PUBLIC
BEGIN:VTIMEZONE
TZID:Europe/London
LAST-MODIFIED:20260306T231828Z
TZURL:https://www.tzurl.org/zoneinfo-outlook/Europe/London
X-LIC-LOCATION:Europe/London
BEGIN:DAYLIGHT
TZNAME:BST
TZOFFSETFROM:+0000
TZOFFSETTO:+0100
DTSTART:19700329T010000
RRULE:FREQ=YEARLY;BYMONTH=3;BYDAY=-1SU
END:DAYLIGHT
BEGIN:STANDARD
TZNAME:GMT
TZOFFSETFROM:+0100
TZOFFSETTO:+0000
DTSTART:19701025T020000
RRULE:FREQ=YEARLY;BYMONTH=10;BYDAY=-1SU
END:STANDARD
END:VTIMEZONE
BEGIN:VEVENT
DTSTART;TZID=Europe/London;VALUE=DATE:20240701
DTEND;TZID=Europe/London;VALUE=DATE:20240706
DTSTAMP:20260422T030915Z
UID:{152F74CB-CE3F-45C3-BD845D7EAEDC247E}
LOCATION:Welby\, Leicestershire
SUMMARY:Welby Archaeological Training Excavation WEEK 1: 1st - 5th July 2024
DESCRIPTION:Event details: https://www.archaeologyuk.org/get-involved/events-and-activities/event-calendar/welby-archaeological-training-excavation-week-1-1st-5th-july-2024.html
PRIORITY:1
END:VEVENT
END:VCALENDAR